BEGIN:VCALENDAR
VERSION:2.0
PRODID:-//CrossPointe Preparatory - ECPv6.15.20//NONSGML v1.0//EN
CALSCALE:GREGORIAN
METHOD:PUBLISH
X-ORIGINAL-URL:https://crosspointeprep.org
X-WR-CALDESC:Events for CrossPointe Preparatory
REFRESH-INTERVAL;VALUE=DURATION:PT1H
X-Robots-Tag:noindex
X-PUBLISHED-TTL:PT1H
BEGIN:VTIMEZONE
TZID:America/Chicago
BEGIN:DAYLIGHT
TZOFFSETFROM:-0600
TZOFFSETTO:-0500
TZNAME:CDT
DTSTART:20250309T080000
END:DAYLIGHT
BEGIN:STANDARD
TZOFFSETFROM:-0500
TZOFFSETTO:-0600
TZNAME:CST
DTSTART:20251102T070000
END:STANDARD
BEGIN:DAYLIGHT
TZOFFSETFROM:-0600
TZOFFSETTO:-0500
TZNAME:CDT
DTSTART:20260308T080000
END:DAYLIGHT
BEGIN:STANDARD
TZOFFSETFROM:-0500
TZOFFSETTO:-0600
TZNAME:CST
DTSTART:20261101T070000
END:STANDARD
BEGIN:DAYLIGHT
TZOFFSETFROM:-0600
TZOFFSETTO:-0500
TZNAME:CDT
DTSTART:20270314T080000
END:DAYLIGHT
BEGIN:STANDARD
TZOFFSETFROM:-0500
TZOFFSETTO:-0600
TZNAME:CST
DTSTART:20271107T070000
END:STANDARD
BEGIN:DAYLIGHT
TZOFFSETFROM:-0600
TZOFFSETTO:-0500
TZNAME:CDT
DTSTART:20280312T080000
END:DAYLIGHT
BEGIN:STANDARD
TZOFFSETFROM:-0500
TZOFFSETTO:-0600
TZNAME:CST
DTSTART:20281105T070000
END:STANDARD
END:VTIMEZONE
BEGIN:VEVENT
DTSTART;VALUE=DATE:20260906
DTEND;VALUE=DATE:20260908
DTSTAMP:20260422T130020
CREATED:20260422T175400Z
LAST-MODIFIED:20260422T175400Z
UID:10001922-1788656400-1788742799@crosspointeprep.org
SUMMARY:CPP Fall Week 5
DESCRIPTION:
URL:https://crosspointeprep.org/event/cpp-fall-week-5-2/
CATEGORIES:CrossPointe Preparatory Events
END:VEVENT
BEGIN:VEVENT
DTSTART;VALUE=DATE:20260907
DTEND;VALUE=DATE:20260909
DTSTAMP:20260422T130020
CREATED:20260422T175400Z
LAST-MODIFIED:20260422T175400Z
UID:10001923-1788742800-1788829199@crosspointeprep.org
SUMMARY:CPP no school Labor Day
DESCRIPTION:
URL:https://crosspointeprep.org/event/cpp-no-school-labor-day/
CATEGORIES:CrossPointe Preparatory Events
END:VEVENT
BEGIN:VEVENT
DTSTART;VALUE=DATE:20260913
DTEND;VALUE=DATE:20260915
DTSTAMP:20260422T130020
CREATED:20260422T175400Z
LAST-MODIFIED:20260422T175400Z
UID:10001924-1789261200-1789347599@crosspointeprep.org
SUMMARY:CPP Fall Week 6
DESCRIPTION:
URL:https://crosspointeprep.org/event/cpp-fall-week-6-2/
CATEGORIES:CrossPointe Preparatory Events
END:VEVENT
BEGIN:VEVENT
DTSTART;VALUE=DATE:20260920
DTEND;VALUE=DATE:20260922
DTSTAMP:20260422T130020
CREATED:20260422T175400Z
LAST-MODIFIED:20260422T175400Z
UID:10001925-1789866000-1789952399@crosspointeprep.org
SUMMARY:CPP Fall Week 7
DESCRIPTION:
URL:https://crosspointeprep.org/event/cpp-fall-week-7-2/
CATEGORIES:CrossPointe Preparatory Events
END:VEVENT
BEGIN:VEVENT
DTSTART;VALUE=DATE:20260927
DTEND;VALUE=DATE:20260929
DTSTAMP:20260422T130020
CREATED:20260422T175400Z
LAST-MODIFIED:20260422T175400Z
UID:10001926-1790470800-1790557199@crosspointeprep.org
SUMMARY:CPP Fall Week 8
DESCRIPTION:
URL:https://crosspointeprep.org/event/cpp-fall-week-8-2/
CATEGORIES:CrossPointe Preparatory Events
END:VEVENT
BEGIN:VEVENT
DTSTART;VALUE=DATE:20261004
DTEND;VALUE=DATE:20261006
DTSTAMP:20260422T130020
CREATED:20260422T175412Z
LAST-MODIFIED:20260422T175412Z
UID:10001927-1791075600-1791161999@crosspointeprep.org
SUMMARY:CPP Fall Week 9
DESCRIPTION:
URL:https://crosspointeprep.org/event/cpp-fall-week-9-2/
CATEGORIES:CrossPointe Preparatory Events
END:VEVENT
BEGIN:VEVENT
DTSTART;VALUE=DATE:20270322
DTEND;VALUE=DATE:20270328
DTSTAMP:20260422T130020
CREATED:20260220T025429Z
LAST-MODIFIED:20260422T175412Z
UID:10001842-1805677200-1806109199@crosspointeprep.org
SUMMARY:Spring Break
DESCRIPTION:
URL:https://crosspointeprep.org/event/spring-break/
CATEGORIES:CrossPointe Preparatory Events
END:VEVENT
END:VCALENDAR