BEGIN:VCALENDAR
VERSION:2.0
PRODID:-//CrossPointe Preparatory - ECPv6.15.20//NONSGML v1.0//EN
CALSCALE:GREGORIAN
METHOD:PUBLISH
X-WR-CALNAME:CrossPointe Preparatory
X-ORIGINAL-URL:https://crosspointeprep.org
X-WR-CALDESC:Events for CrossPointe Preparatory
REFRESH-INTERVAL;VALUE=DURATION:PT1H
X-Robots-Tag:noindex
X-PUBLISHED-TTL:PT1H
BEGIN:VTIMEZONE
TZID:America/Chicago
BEGIN:DAYLIGHT
TZOFFSETFROM:-0600
TZOFFSETTO:-0500
TZNAME:CDT
DTSTART:20250309T080000
END:DAYLIGHT
BEGIN:STANDARD
TZOFFSETFROM:-0500
TZOFFSETTO:-0600
TZNAME:CST
DTSTART:20251102T070000
END:STANDARD
BEGIN:DAYLIGHT
TZOFFSETFROM:-0600
TZOFFSETTO:-0500
TZNAME:CDT
DTSTART:20260308T080000
END:DAYLIGHT
BEGIN:STANDARD
TZOFFSETFROM:-0500
TZOFFSETTO:-0600
TZNAME:CST
DTSTART:20261101T070000
END:STANDARD
BEGIN:DAYLIGHT
TZOFFSETFROM:-0600
TZOFFSETTO:-0500
TZNAME:CDT
DTSTART:20270314T080000
END:DAYLIGHT
BEGIN:STANDARD
TZOFFSETFROM:-0500
TZOFFSETTO:-0600
TZNAME:CST
DTSTART:20271107T070000
END:STANDARD
BEGIN:DAYLIGHT
TZOFFSETFROM:-0600
TZOFFSETTO:-0500
TZNAME:CDT
DTSTART:20280312T080000
END:DAYLIGHT
BEGIN:STANDARD
TZOFFSETFROM:-0500
TZOFFSETTO:-0600
TZNAME:CST
DTSTART:20281105T070000
END:STANDARD
END:VTIMEZONE
BEGIN:VEVENT
DTSTART;VALUE=DATE:20260920
DTEND;VALUE=DATE:20260922
DTSTAMP:20260422T165918
CREATED:20260422T175400Z
LAST-MODIFIED:20260422T215414Z
UID:10001925-1789866000-1789952399@crosspointeprep.org
SUMMARY:CPP Fall Week 7
DESCRIPTION:
URL:https://crosspointeprep.org/event/cpp-fall-week-7-2/
CATEGORIES:CrossPointe Preparatory Events
END:VEVENT
BEGIN:VEVENT
DTSTART;VALUE=DATE:20260921
DTEND;VALUE=DATE:20260923
DTSTAMP:20260422T165918
CREATED:20260422T182358Z
LAST-MODIFIED:20260422T215401Z
UID:10001928-1789952400-1790038799@crosspointeprep.org
SUMMARY:CPP 7th-12th School Pictures
DESCRIPTION:
URL:https://crosspointeprep.org/event/cpp-7th-12th-school-pictures/
CATEGORIES:CrossPointe Preparatory Events
END:VEVENT
BEGIN:VEVENT
DTSTART;VALUE=DATE:20260922
DTEND;VALUE=DATE:20260924
DTSTAMP:20260422T165918
CREATED:20260422T182409Z
LAST-MODIFIED:20260422T215414Z
UID:10001929-1790038800-1790125199@crosspointeprep.org
SUMMARY:CPP PreK-6th grade school pictures
DESCRIPTION:
URL:https://crosspointeprep.org/event/cpp-prek-6th-grade-school-pictures/
CATEGORIES:CrossPointe Preparatory Events
END:VEVENT
BEGIN:VEVENT
DTSTART;VALUE=DATE:20260927
DTEND;VALUE=DATE:20260929
DTSTAMP:20260422T165918
CREATED:20260422T175400Z
LAST-MODIFIED:20260422T215414Z
UID:10001926-1790470800-1790557199@crosspointeprep.org
SUMMARY:CPP Fall Week 8
DESCRIPTION:
URL:https://crosspointeprep.org/event/cpp-fall-week-8-2/
CATEGORIES:CrossPointe Preparatory Events
END:VEVENT
BEGIN:VEVENT
DTSTART;VALUE=DATE:20261004
DTEND;VALUE=DATE:20261006
DTSTAMP:20260422T165918
CREATED:20260422T175412Z
LAST-MODIFIED:20260422T215414Z
UID:10001927-1791075600-1791161999@crosspointeprep.org
SUMMARY:CPP Fall Week 9
DESCRIPTION:
URL:https://crosspointeprep.org/event/cpp-fall-week-9-2/
CATEGORIES:CrossPointe Preparatory Events
END:VEVENT
BEGIN:VEVENT
DTSTART;VALUE=DATE:20261011
DTEND;VALUE=DATE:20261013
DTSTAMP:20260422T165918
CREATED:20260422T182410Z
LAST-MODIFIED:20260422T215414Z
UID:10001930-1791680400-1791766799@crosspointeprep.org
SUMMARY:CPP Fall Week 10
DESCRIPTION:
URL:https://crosspointeprep.org/event/cpp-fall-week-10-2/
CATEGORIES:CrossPointe Preparatory Events
END:VEVENT
BEGIN:VEVENT
DTSTART;VALUE=DATE:20261018
DTEND;VALUE=DATE:20261020
DTSTAMP:20260422T165918
CREATED:20260422T182410Z
LAST-MODIFIED:20260422T215414Z
UID:10001931-1792285200-1792371599@crosspointeprep.org
SUMMARY:CPP Fall Week 11
DESCRIPTION:
URL:https://crosspointeprep.org/event/cpp-fall-week-11-2/
CATEGORIES:CrossPointe Preparatory Events
END:VEVENT
BEGIN:VEVENT
DTSTART;VALUE=DATE:20261025
DTEND;VALUE=DATE:20261027
DTSTAMP:20260422T165918
CREATED:20260422T182410Z
LAST-MODIFIED:20260422T215414Z
UID:10001932-1792890000-1792976399@crosspointeprep.org
SUMMARY:CPP Fall Week 12
DESCRIPTION:
URL:https://crosspointeprep.org/event/cpp-fall-week-12-2/
CATEGORIES:CrossPointe Preparatory Events
END:VEVENT
BEGIN:VEVENT
DTSTART;VALUE=DATE:20261101
DTEND;VALUE=DATE:20261103
DTSTAMP:20260422T165918
CREATED:20260422T182410Z
LAST-MODIFIED:20260422T215414Z
UID:10001933-1793494800-1793581199@crosspointeprep.org
SUMMARY:CPP Fall Week 13
DESCRIPTION:
URL:https://crosspointeprep.org/event/cpp-fall-week-13-2/
CATEGORIES:CrossPointe Preparatory Events
END:VEVENT
BEGIN:VEVENT
DTSTART;VALUE=DATE:20261108
DTEND;VALUE=DATE:20261110
DTSTAMP:20260422T165918
CREATED:20260422T182410Z
LAST-MODIFIED:20260422T215414Z
UID:10001934-1794099600-1794185999@crosspointeprep.org
SUMMARY:CPP Fall Week 14
DESCRIPTION:
URL:https://crosspointeprep.org/event/cpp-fall-week-14/
CATEGORIES:CrossPointe Preparatory Events
END:VEVENT
BEGIN:VEVENT
DTSTART;VALUE=DATE:20261115
DTEND;VALUE=DATE:20261117
DTSTAMP:20260422T165918
CREATED:20260422T182410Z
LAST-MODIFIED:20260422T215414Z
UID:10001935-1794704400-1794790799@crosspointeprep.org
SUMMARY:CPP Fall Week 15
DESCRIPTION:
URL:https://crosspointeprep.org/event/cpp-fall-week-15/
CATEGORIES:CrossPointe Preparatory Events
END:VEVENT
BEGIN:VEVENT
DTSTART;VALUE=DATE:20261122
DTEND;VALUE=DATE:20261130
DTSTAMP:20260422T165918
CREATED:20260422T182422Z
LAST-MODIFIED:20260422T215426Z
UID:10001937-1795309200-1795913999@crosspointeprep.org
SUMMARY:CPP Thanksgiving Break
DESCRIPTION:
URL:https://crosspointeprep.org/event/cpp-thanksgiving-break/
CATEGORIES:CrossPointe Preparatory Events
END:VEVENT
BEGIN:VEVENT
DTSTART;VALUE=DATE:20261129
DTEND;VALUE=DATE:20261201
DTSTAMP:20260422T165918
CREATED:20260422T182410Z
LAST-MODIFIED:20260422T215426Z
UID:10001936-1795914000-1796000399@crosspointeprep.org
SUMMARY:CPP Fall Week 16
DESCRIPTION:
URL:https://crosspointeprep.org/event/cpp-fall-week-16/
CATEGORIES:CrossPointe Preparatory Events
END:VEVENT
BEGIN:VEVENT
DTSTART;VALUE=DATE:20261206
DTEND;VALUE=DATE:20261208
DTSTAMP:20260422T165918
CREATED:20260422T182422Z
LAST-MODIFIED:20260422T215426Z
UID:10001938-1796518800-1796605199@crosspointeprep.org
SUMMARY:CPP Fall Week 17
DESCRIPTION:
URL:https://crosspointeprep.org/event/cpp-fall-week-17/
CATEGORIES:CrossPointe Preparatory Events
END:VEVENT
BEGIN:VEVENT
DTSTART;VALUE=DATE:20261210
DTEND;VALUE=DATE:20261212
DTSTAMP:20260422T165918
CREATED:20260422T182422Z
LAST-MODIFIED:20260422T215426Z
UID:10001939-1796864400-1796950799@crosspointeprep.org
SUMMARY:CPP Family Christmas Party
DESCRIPTION:
URL:https://crosspointeprep.org/event/cpp-family-christmas-party/
CATEGORIES:CrossPointe Preparatory Events
END:VEVENT
BEGIN:VEVENT
DTSTART;VALUE=DATE:20261211
DTEND;VALUE=DATE:20261213
DTSTAMP:20260422T165918
CREATED:20260422T182422Z
LAST-MODIFIED:20260422T215426Z
UID:10001940-1796950800-1797037199@crosspointeprep.org
SUMMARY:CPP Family Ice Skating
DESCRIPTION:
URL:https://crosspointeprep.org/event/cpp-family-ice-skating/
CATEGORIES:CrossPointe Preparatory Events
END:VEVENT
BEGIN:VEVENT
DTSTART;VALUE=DATE:20261213
DTEND;VALUE=DATE:20270108
DTSTAMP:20260422T165918
CREATED:20260422T182422Z
LAST-MODIFIED:20260422T215426Z
UID:10001941-1797123600-1799283599@crosspointeprep.org
SUMMARY:CPP Christmas Break
DESCRIPTION:
URL:https://crosspointeprep.org/event/cpp-christmas-break/
CATEGORIES:CrossPointe Preparatory Events
END:VEVENT
BEGIN:VEVENT
DTSTART;VALUE=DATE:20270107
DTEND;VALUE=DATE:20270109
DTSTAMP:20260422T165918
CREATED:20260422T182422Z
LAST-MODIFIED:20260422T215426Z
UID:10001942-1799283600-1799369999@crosspointeprep.org
SUMMARY:CPP Spring Week 1
DESCRIPTION:
URL:https://crosspointeprep.org/event/cpp-spring-week-1/
CATEGORIES:CrossPointe Preparatory Events
END:VEVENT
BEGIN:VEVENT
DTSTART;VALUE=DATE:20270110
DTEND;VALUE=DATE:20270112
DTSTAMP:20260422T165918
CREATED:20260422T182422Z
LAST-MODIFIED:20260422T215426Z
UID:10001943-1799542800-1799629199@crosspointeprep.org
SUMMARY:CPP Spring Week 2
DESCRIPTION:
URL:https://crosspointeprep.org/event/cpp-spring-week-2/
CATEGORIES:CrossPointe Preparatory Events
END:VEVENT
BEGIN:VEVENT
DTSTART;VALUE=DATE:20270117
DTEND;VALUE=DATE:20270119
DTSTAMP:20260422T165918
CREATED:20260422T182422Z
LAST-MODIFIED:20260422T215426Z
UID:10001945-1800147600-1800233999@crosspointeprep.org
SUMMARY:CPP Spring Week 3
DESCRIPTION:
URL:https://crosspointeprep.org/event/cpp-spring-week-3/
CATEGORIES:CrossPointe Preparatory Events
END:VEVENT
BEGIN:VEVENT
DTSTART;VALUE=DATE:20270118
DTEND;VALUE=DATE:20270120
DTSTAMP:20260422T165918
CREATED:20260422T182422Z
LAST-MODIFIED:20260422T215426Z
UID:10001944-1800234000-1800320399@crosspointeprep.org
SUMMARY:CPP Off MLK Day
DESCRIPTION:
URL:https://crosspointeprep.org/event/cpp-off-mlk-day/
CATEGORIES:CrossPointe Preparatory Events
END:VEVENT
BEGIN:VEVENT
DTSTART;VALUE=DATE:20270124
DTEND;VALUE=DATE:20270126
DTSTAMP:20260422T165918
CREATED:20260422T182422Z
LAST-MODIFIED:20260422T215437Z
UID:10001946-1800752400-1800838799@crosspointeprep.org
SUMMARY:CPP Spring Week 4
DESCRIPTION:
URL:https://crosspointeprep.org/event/cpp-spring-week-4/
CATEGORIES:CrossPointe Preparatory Events
END:VEVENT
BEGIN:VEVENT
DTSTART;VALUE=DATE:20270131
DTEND;VALUE=DATE:20270202
DTSTAMP:20260422T165918
CREATED:20260422T182434Z
LAST-MODIFIED:20260422T215437Z
UID:10001947-1801357200-1801443599@crosspointeprep.org
SUMMARY:CPP Spring Week 5
DESCRIPTION:
URL:https://crosspointeprep.org/event/cpp-spring-week-5/
CATEGORIES:CrossPointe Preparatory Events
END:VEVENT
BEGIN:VEVENT
DTSTART;VALUE=DATE:20270207
DTEND;VALUE=DATE:20270209
DTSTAMP:20260422T165918
CREATED:20260422T182434Z
LAST-MODIFIED:20260422T215437Z
UID:10001948-1801962000-1802048399@crosspointeprep.org
SUMMARY:CPP Spring Week 6
DESCRIPTION:
URL:https://crosspointeprep.org/event/cpp-spring-week-6-2/
CATEGORIES:CrossPointe Preparatory Events
END:VEVENT
BEGIN:VEVENT
DTSTART;VALUE=DATE:20270214
DTEND;VALUE=DATE:20270216
DTSTAMP:20260422T165918
CREATED:20260422T182434Z
LAST-MODIFIED:20260422T215437Z
UID:10001949-1802566800-1802653199@crosspointeprep.org
SUMMARY:CPP Spring Week 7
DESCRIPTION:
URL:https://crosspointeprep.org/event/cpp-spring-week-7/
CATEGORIES:CrossPointe Preparatory Events
END:VEVENT
BEGIN:VEVENT
DTSTART;VALUE=DATE:20270221
DTEND;VALUE=DATE:20270223
DTSTAMP:20260422T165918
CREATED:20260422T182434Z
LAST-MODIFIED:20260422T215437Z
UID:10001950-1803171600-1803257999@crosspointeprep.org
SUMMARY:CPP Spring Week 8
DESCRIPTION:
URL:https://crosspointeprep.org/event/cpp-spring-week-8/
CATEGORIES:CrossPointe Preparatory Events
END:VEVENT
BEGIN:VEVENT
DTSTART;VALUE=DATE:20270228
DTEND;VALUE=DATE:20270302
DTSTAMP:20260422T165918
CREATED:20260422T182434Z
LAST-MODIFIED:20260422T215437Z
UID:10001951-1803776400-1803862799@crosspointeprep.org
SUMMARY:CPP Spring Week 9
DESCRIPTION:
URL:https://crosspointeprep.org/event/cpp-spring-week-9/
CATEGORIES:CrossPointe Preparatory Events
END:VEVENT
BEGIN:VEVENT
DTSTART;VALUE=DATE:20270307
DTEND;VALUE=DATE:20270309
DTSTAMP:20260422T165918
CREATED:20260422T182434Z
LAST-MODIFIED:20260422T215438Z
UID:10001952-1804381200-1804467599@crosspointeprep.org
SUMMARY:CPP Spring Week 10
DESCRIPTION:
URL:https://crosspointeprep.org/event/cpp-spring-week-10/
CATEGORIES:CrossPointe Preparatory Events
END:VEVENT
BEGIN:VEVENT
DTSTART;VALUE=DATE:20270308
DTEND;VALUE=DATE:20270313
DTSTAMP:20260422T165918
CREATED:20260422T182434Z
LAST-MODIFIED:20260422T215438Z
UID:10001953-1804467600-1804813199@crosspointeprep.org
SUMMARY:CPP IOWA TESTING WEEK
DESCRIPTION:
URL:https://crosspointeprep.org/event/cpp-iowa-testing-week/
CATEGORIES:CrossPointe Preparatory Events
END:VEVENT
BEGIN:VEVENT
DTSTART;VALUE=DATE:20270314
DTEND;VALUE=DATE:20270316
DTSTAMP:20260422T165918
CREATED:20260422T182435Z
LAST-MODIFIED:20260422T215438Z
UID:10001954-1804986000-1805072399@crosspointeprep.org
SUMMARY:CPP Spring Week 11
DESCRIPTION:
URL:https://crosspointeprep.org/event/cpp-spring-week-11/
CATEGORIES:CrossPointe Preparatory Events
END:VEVENT
END:VCALENDAR