BEGIN:VCALENDAR
VERSION:2.0
PRODID:-//CrossPointe Preparatory - ECPv6.15.20//NONSGML v1.0//EN
CALSCALE:GREGORIAN
METHOD:PUBLISH
X-ORIGINAL-URL:https://crosspointeprep.org
X-WR-CALDESC:Events for CrossPointe Preparatory
REFRESH-INTERVAL;VALUE=DURATION:PT1H
X-Robots-Tag:noindex
X-PUBLISHED-TTL:PT1H
BEGIN:VTIMEZONE
TZID:America/Chicago
BEGIN:DAYLIGHT
TZOFFSETFROM:-0600
TZOFFSETTO:-0500
TZNAME:CDT
DTSTART:20250309T080000
END:DAYLIGHT
BEGIN:STANDARD
TZOFFSETFROM:-0500
TZOFFSETTO:-0600
TZNAME:CST
DTSTART:20251102T070000
END:STANDARD
BEGIN:DAYLIGHT
TZOFFSETFROM:-0600
TZOFFSETTO:-0500
TZNAME:CDT
DTSTART:20260308T080000
END:DAYLIGHT
BEGIN:STANDARD
TZOFFSETFROM:-0500
TZOFFSETTO:-0600
TZNAME:CST
DTSTART:20261101T070000
END:STANDARD
BEGIN:DAYLIGHT
TZOFFSETFROM:-0600
TZOFFSETTO:-0500
TZNAME:CDT
DTSTART:20270314T080000
END:DAYLIGHT
BEGIN:STANDARD
TZOFFSETFROM:-0500
TZOFFSETTO:-0600
TZNAME:CST
DTSTART:20271107T070000
END:STANDARD
END:VTIMEZONE
BEGIN:VEVENT
DTSTART;VALUE=DATE:20260424
DTEND;VALUE=DATE:20260426
DTSTAMP:20260422T175809
CREATED:20260220T025405Z
LAST-MODIFIED:20260422T225336Z
UID:10001827-1776992400-1777078799@crosspointeprep.org
SUMMARY:CPP 9th -12th Spring Banquet
DESCRIPTION:
URL:https://crosspointeprep.org/event/cpp-9th-12th-spring-banquet/
CATEGORIES:CrossPointe Preparatory Events
END:VEVENT
BEGIN:VEVENT
DTSTART;VALUE=DATE:20260425
DTEND;VALUE=DATE:20260429
DTSTAMP:20260422T175809
CREATED:20260330T130845Z
LAST-MODIFIED:20260422T225336Z
UID:10001881-1777078800-1777337999@crosspointeprep.org
SUMMARY:Robotics Worlds competition
DESCRIPTION:
URL:https://crosspointeprep.org/event/robotics-worlds-competition/
CATEGORIES:CrossPointe Preparatory Events
END:VEVENT
BEGIN:VEVENT
DTSTART;VALUE=DATE:20260426
DTEND;VALUE=DATE:20260428
DTSTAMP:20260422T175809
CREATED:20260220T025405Z
LAST-MODIFIED:20260422T225336Z
UID:10001830-1777165200-1777251599@crosspointeprep.org
SUMMARY:CPP Spring week 16
DESCRIPTION:
URL:https://crosspointeprep.org/event/cpp-spring-week-16/
CATEGORIES:CrossPointe Preparatory Events
END:VEVENT
BEGIN:VEVENT
DTSTART;VALUE=DATE:20260427
DTEND;VALUE=DATE:20260429
DTSTAMP:20260422T175809
CREATED:20260220T025405Z
LAST-MODIFIED:20260422T225336Z
UID:10001829-1777251600-1777337999@crosspointeprep.org
SUMMARY:Elementary Music Program
DESCRIPTION:
URL:https://crosspointeprep.org/event/elementary-music-program/
CATEGORIES:CrossPointe Preparatory Events
END:VEVENT
BEGIN:VEVENT
DTSTART;VALUE=DATE:20260428
DTEND;VALUE=DATE:20260430
DTSTAMP:20260422T175809
CREATED:20260220T025405Z
LAST-MODIFIED:20260422T225336Z
UID:10001828-1777338000-1777424399@crosspointeprep.org
SUMMARY:CPP Teacher meeting
DESCRIPTION:
URL:https://crosspointeprep.org/event/cpp-teacher-meeting-3/
CATEGORIES:CrossPointe Preparatory Events
END:VEVENT
BEGIN:VEVENT
DTSTART;VALUE=DATE:20260430
DTEND;VALUE=DATE:20260502
DTSTAMP:20260422T175809
CREATED:20260220T025417Z
LAST-MODIFIED:20260422T225336Z
UID:10001831-1777510800-1777597199@crosspointeprep.org
SUMMARY:CPP 7th -12th Game Night
DESCRIPTION:
URL:https://crosspointeprep.org/event/cpp-7th-12th-game-night-5/
CATEGORIES:CrossPointe Preparatory Events
END:VEVENT
BEGIN:VEVENT
DTSTART;VALUE=DATE:20260430
DTEND;VALUE=DATE:20260502
DTSTAMP:20260422T175809
CREATED:20260331T133918Z
LAST-MODIFIED:20260422T225336Z
UID:10001893-1777510800-1777597199@crosspointeprep.org
SUMMARY:CPP Yearbook
DESCRIPTION:
URL:https://crosspointeprep.org/event/cpp-yearbook/
CATEGORIES:CrossPointe Preparatory Events
END:VEVENT
BEGIN:VEVENT
DTSTART;VALUE=DATE:20260501
DTEND;VALUE=DATE:20260503
DTSTAMP:20260422T175809
CREATED:20260317T215359Z
LAST-MODIFIED:20260422T225336Z
UID:10001856-1777597200-1777683599@crosspointeprep.org
SUMMARY:Basketball tournament
DESCRIPTION:
URL:https://crosspointeprep.org/event/basketball-tournament/
CATEGORIES:CrossPointe Preparatory Events
END:VEVENT
BEGIN:VEVENT
DTSTART;VALUE=DATE:20260502
DTEND;VALUE=DATE:20260504
DTSTAMP:20260422T175809
CREATED:20260422T185414Z
LAST-MODIFIED:20260422T225336Z
UID:10001964-1777683600-1777769999@crosspointeprep.org
SUMMARY:CPP Elementary Soccer Jamboree
DESCRIPTION:
URL:https://crosspointeprep.org/event/cpp-elementary-soccer-jamboree/
CATEGORIES:CrossPointe Preparatory Events
END:VEVENT
BEGIN:VEVENT
DTSTART;VALUE=DATE:20260503
DTEND;VALUE=DATE:20260505
DTSTAMP:20260422T175809
CREATED:20260330T153855Z
LAST-MODIFIED:20260422T225347Z
UID:10001883-1777770000-1777856399@crosspointeprep.org
SUMMARY:CPP Spring week 17
DESCRIPTION:
URL:https://crosspointeprep.org/event/cpp-spring-week-17/
CATEGORIES:CrossPointe Preparatory Events
END:VEVENT
BEGIN:VEVENT
DTSTART;VALUE=DATE:20260504
DTEND;VALUE=DATE:20260506
DTSTAMP:20260422T175809
CREATED:20260413T155343Z
LAST-MODIFIED:20260422T225347Z
UID:10001910-1777856400-1777942799@crosspointeprep.org
SUMMARY:Jr. & Sr. High Music Performance
DESCRIPTION:
URL:https://crosspointeprep.org/event/jr-sr-high-music-performance/
CATEGORIES:CrossPointe Preparatory Events
END:VEVENT
BEGIN:VEVENT
DTSTART;VALUE=DATE:20260507
DTEND;VALUE=DATE:20260509
DTSTAMP:20260422T175809
CREATED:20260413T155343Z
LAST-MODIFIED:20260422T225347Z
UID:10001911-1778115600-1778201999@crosspointeprep.org
SUMMARY:CPP Anything but a Backpack or Lunchbox Day
DESCRIPTION:
URL:https://crosspointeprep.org/event/cpp-anything-but-a-backpack-or-lunchbox-day/
CATEGORIES:CrossPointe Preparatory Events
END:VEVENT
BEGIN:VEVENT
DTSTART;VALUE=DATE:20260507
DTEND;VALUE=DATE:20260509
DTSTAMP:20260422T175809
CREATED:20260413T155343Z
LAST-MODIFIED:20260422T225347Z
UID:10001912-1778115600-1778201999@crosspointeprep.org
SUMMARY:CPP Kindergarten Graduation
DESCRIPTION:
URL:https://crosspointeprep.org/event/cpp-kindergarten-graduation/
CATEGORIES:CrossPointe Preparatory Events
END:VEVENT
BEGIN:VEVENT
DTSTART;VALUE=DATE:20260508
DTEND;VALUE=DATE:20260510
DTSTAMP:20260422T175809
CREATED:20260405T235358Z
LAST-MODIFIED:20260422T225347Z
UID:10001904-1778202000-1778288399@crosspointeprep.org
SUMMARY:CPP Graduation
DESCRIPTION:
URL:https://crosspointeprep.org/event/cpp-graduation/
CATEGORIES:CrossPointe Preparatory Events
END:VEVENT
BEGIN:VEVENT
DTSTART;VALUE=DATE:20260510
DTEND;VALUE=DATE:20260512
DTSTAMP:20260422T175809
CREATED:20260405T235359Z
LAST-MODIFIED:20260422T225347Z
UID:10001905-1778374800-1778461199@crosspointeprep.org
SUMMARY:CPP Spring week 18
DESCRIPTION:
URL:https://crosspointeprep.org/event/cpp-spring-week-18/
CATEGORIES:CrossPointe Preparatory Events
END:VEVENT
BEGIN:VEVENT
DTSTART;VALUE=DATE:20260514
DTEND;VALUE=DATE:20260516
DTSTAMP:20260422T175809
CREATED:20260405T235359Z
LAST-MODIFIED:20260422T225347Z
UID:10001907-1778720400-1778806799@crosspointeprep.org
SUMMARY:CPP End of 4th Grading period
DESCRIPTION:
URL:https://crosspointeprep.org/event/cpp-end-of-4th-grading-period/
CATEGORIES:CrossPointe Preparatory Events
END:VEVENT
BEGIN:VEVENT
DTSTART;VALUE=DATE:20260514
DTEND;VALUE=DATE:20260516
DTSTAMP:20260422T175809
CREATED:20260421T105348Z
LAST-MODIFIED:20260422T225347Z
UID:10001913-1778720400-1778806799@crosspointeprep.org
SUMMARY:CPP Family Picnic\, Student showcase\, & Talent Show
DESCRIPTION:
URL:https://crosspointeprep.org/event/cpp-family-picnic-student-showcase-talent-show/
CATEGORIES:CrossPointe Preparatory Events
END:VEVENT
BEGIN:VEVENT
DTSTART;VALUE=DATE:20260622
DTEND;VALUE=DATE:20260626
DTSTAMP:20260422T175809
CREATED:20260421T105348Z
LAST-MODIFIED:20260422T225347Z
UID:10001914-1782090000-1782349199@crosspointeprep.org
SUMMARY:NAUMS SUMMIT
DESCRIPTION:
URL:https://crosspointeprep.org/event/naums-summit/
CATEGORIES:CrossPointe Preparatory Events
END:VEVENT
BEGIN:VEVENT
DTSTART;VALUE=DATE:20260729
DTEND;VALUE=DATE:20260731
DTSTAMP:20260422T175809
CREATED:20260422T175348Z
LAST-MODIFIED:20260422T225347Z
UID:10001917-1785286800-1785373199@crosspointeprep.org
SUMMARY:CPP All Teacher In-Service Training
DESCRIPTION:
URL:https://crosspointeprep.org/event/cpp-all-teacher-in-service-training-2/
CATEGORIES:CrossPointe Preparatory Events
END:VEVENT
BEGIN:VEVENT
DTSTART;VALUE=DATE:20260730
DTEND;VALUE=DATE:20260801
DTSTAMP:20260422T175809
CREATED:20260422T175348Z
LAST-MODIFIED:20260422T225359Z
UID:10001916-1785373200-1785459599@crosspointeprep.org
SUMMARY:CPP All Teacher In-Service Training
DESCRIPTION:
URL:https://crosspointeprep.org/event/cpp-all-teacher-in-service-training/
CATEGORIES:CrossPointe Preparatory Events
END:VEVENT
BEGIN:VEVENT
DTSTART;VALUE=DATE:20260806
DTEND;VALUE=DATE:20260808
DTSTAMP:20260422T175809
CREATED:20260422T175359Z
LAST-MODIFIED:20260422T225359Z
UID:10001918-1785978000-1786064399@crosspointeprep.org
SUMMARY:CPP Open House
DESCRIPTION:
URL:https://crosspointeprep.org/event/cpp-open-house-3/
CATEGORIES:CrossPointe Preparatory Events
END:VEVENT
BEGIN:VEVENT
DTSTART;VALUE=DATE:20260809
DTEND;VALUE=DATE:20260811
DTSTAMP:20260422T175809
CREATED:20260421T105349Z
LAST-MODIFIED:20260422T225359Z
UID:10001915-1786237200-1786323599@crosspointeprep.org
SUMMARY:CPP Fall week 1
DESCRIPTION:
URL:https://crosspointeprep.org/event/cpp-fall-week-1/
CATEGORIES:CrossPointe Preparatory Events
END:VEVENT
BEGIN:VEVENT
DTSTART;VALUE=DATE:20260816
DTEND;VALUE=DATE:20260818
DTSTAMP:20260422T175809
CREATED:20260422T175400Z
LAST-MODIFIED:20260422T225359Z
UID:10001919-1786842000-1786928399@crosspointeprep.org
SUMMARY:CPP Fall Week 2
DESCRIPTION:
URL:https://crosspointeprep.org/event/cpp-fall-week-2-2/
CATEGORIES:CrossPointe Preparatory Events
END:VEVENT
BEGIN:VEVENT
DTSTART;VALUE=DATE:20260823
DTEND;VALUE=DATE:20260825
DTSTAMP:20260422T175809
CREATED:20260422T175400Z
LAST-MODIFIED:20260422T225359Z
UID:10001920-1787446800-1787533199@crosspointeprep.org
SUMMARY:CPP Fall Week 3
DESCRIPTION:
URL:https://crosspointeprep.org/event/cpp-fall-week-3-2/
CATEGORIES:CrossPointe Preparatory Events
END:VEVENT
BEGIN:VEVENT
DTSTART;VALUE=DATE:20260830
DTEND;VALUE=DATE:20260901
DTSTAMP:20260422T175809
CREATED:20260422T175400Z
LAST-MODIFIED:20260422T225359Z
UID:10001921-1788051600-1788137999@crosspointeprep.org
SUMMARY:CPP Fall Week 4
DESCRIPTION:
URL:https://crosspointeprep.org/event/cpp-fall-week-4-2/
CATEGORIES:CrossPointe Preparatory Events
END:VEVENT
BEGIN:VEVENT
DTSTART;VALUE=DATE:20260906
DTEND;VALUE=DATE:20260908
DTSTAMP:20260422T175809
CREATED:20260422T175400Z
LAST-MODIFIED:20260422T225359Z
UID:10001922-1788656400-1788742799@crosspointeprep.org
SUMMARY:CPP Fall Week 5
DESCRIPTION:
URL:https://crosspointeprep.org/event/cpp-fall-week-5-2/
CATEGORIES:CrossPointe Preparatory Events
END:VEVENT
BEGIN:VEVENT
DTSTART;VALUE=DATE:20260907
DTEND;VALUE=DATE:20260909
DTSTAMP:20260422T175809
CREATED:20260422T175400Z
LAST-MODIFIED:20260422T225359Z
UID:10001923-1788742800-1788829199@crosspointeprep.org
SUMMARY:CPP no school Labor Day
DESCRIPTION:
URL:https://crosspointeprep.org/event/cpp-no-school-labor-day/
CATEGORIES:CrossPointe Preparatory Events
END:VEVENT
BEGIN:VEVENT
DTSTART;VALUE=DATE:20260913
DTEND;VALUE=DATE:20260915
DTSTAMP:20260422T175809
CREATED:20260422T175400Z
LAST-MODIFIED:20260422T225359Z
UID:10001924-1789261200-1789347599@crosspointeprep.org
SUMMARY:CPP Fall Week 6
DESCRIPTION:
URL:https://crosspointeprep.org/event/cpp-fall-week-6-2/
CATEGORIES:CrossPointe Preparatory Events
END:VEVENT
BEGIN:VEVENT
DTSTART;VALUE=DATE:20260920
DTEND;VALUE=DATE:20260922
DTSTAMP:20260422T175809
CREATED:20260422T175400Z
LAST-MODIFIED:20260422T225411Z
UID:10001925-1789866000-1789952399@crosspointeprep.org
SUMMARY:CPP Fall Week 7
DESCRIPTION:
URL:https://crosspointeprep.org/event/cpp-fall-week-7-2/
CATEGORIES:CrossPointe Preparatory Events
END:VEVENT
BEGIN:VEVENT
DTSTART;VALUE=DATE:20260921
DTEND;VALUE=DATE:20260923
DTSTAMP:20260422T175809
CREATED:20260422T182358Z
LAST-MODIFIED:20260422T225359Z
UID:10001928-1789952400-1790038799@crosspointeprep.org
SUMMARY:CPP 7th-12th School Pictures
DESCRIPTION:
URL:https://crosspointeprep.org/event/cpp-7th-12th-school-pictures/
CATEGORIES:CrossPointe Preparatory Events
END:VEVENT
END:VCALENDAR